BEGIN:VCALENDAR
VERSION:2.0
PRODID:-//FEDEMA - ECPv6.15.20//NONSGML v1.0//EN
CALSCALE:GREGORIAN
METHOD:PUBLISH
X-ORIGINAL-URL:https://fedema.com
X-WR-CALDESC:Eventos para FEDEMA
REFRESH-INTERVAL;VALUE=DURATION:PT1H
X-Robots-Tag:noindex
X-PUBLISHED-TTL:PT1H
BEGIN:VTIMEZONE
TZID:Europe/Madrid
BEGIN:DAYLIGHT
TZOFFSETFROM:+0100
TZOFFSETTO:+0200
TZNAME:CEST
DTSTART:20200329T010000
END:DAYLIGHT
BEGIN:STANDARD
TZOFFSETFROM:+0200
TZOFFSETTO:+0100
TZNAME:CET
DTSTART:20201025T010000
END:STANDARD
BEGIN:DAYLIGHT
TZOFFSETFROM:+0100
TZOFFSETTO:+0200
TZNAME:CEST
DTSTART:20210328T010000
END:DAYLIGHT
BEGIN:STANDARD
TZOFFSETFROM:+0200
TZOFFSETTO:+0100
TZNAME:CET
DTSTART:20211031T010000
END:STANDARD
BEGIN:DAYLIGHT
TZOFFSETFROM:+0100
TZOFFSETTO:+0200
TZNAME:CEST
DTSTART:20220327T010000
END:DAYLIGHT
BEGIN:STANDARD
TZOFFSETFROM:+0200
TZOFFSETTO:+0100
TZNAME:CET
DTSTART:20221030T010000
END:STANDARD
END:VTIMEZONE
BEGIN:VEVENT
DTSTART;TZID=Europe/Madrid:20210801T100000
DTEND;TZID=Europe/Madrid:20210801T190000
DTSTAMP:20260421T040715
CREATED:20210205T084723Z
LAST-MODIFIED:20210728T115641Z
UID:607-1627812000-1627844400@fedema.com
SUMMARY:XXVIII Descenso del Sella (piraguismo adaptado)
DESCRIPTION:
URL:https://fedema.com/evento/xxviii-descenso-del-sella-piraguismo-adaptado/
LOCATION:Arriondas\, Arriondas\, Asturias\, España
CATEGORIES:Piraguismo
ATTACH;FMTTYPE=image/jpeg:https://fedema.com/wp-content/uploads/2021/07/CartelSella.jpg
END:VEVENT
END:VCALENDAR